Workbook

Sheet Instructions
A1: Please note the following when completing your budget:
A3: General comments before you start:
A5: · On Form 2 only enter amounts in the yellow cells. All other cells are locked.
A6: · Budget amounts exclude VAT
A7: · Total Income (how the budget is funded) will always match Total Expenditure and MUST be reflected as a
A8: credit (negative value).
A9: · Retention is calculated automatically.
A10: · If you feel you need to add an expenditure line item, contact me first.
A12: When completing the budget:
A14: INCOME
A16: Only budget for income that the CID is guaranteed to receive and which will be used to help fund the expenditure budget Note: Interest earned cannot be used.
A17: The main source of revenue will be the additional property rates billed by the City which will be paid over on a monthly basis to the NPC.
... A87: In terms of General Recognised Accounting Practice – Standard 1(GRAP 1) which was developed from the International Financial Reporting Standards (IFRS), no offsetting is allowed. Income must be recognised separately in the budget if it is going to be used for the funding of expenditure.

Sheet Form 2
A1: TRIANGLE INDUSTRIAL CITY IMPROVEMENT DISTRICT
A3: 5 YEAR BUDGET AS PER BUSINESS PLAN
C5: REVIEWED 2016/17 | G5: REVIEWED 2017/18 | K5: 2018/19 | O5: 2019/20 | S5: 2020/21
B6: EXPENDITURE | D6: R | H6: R | L6: R | P6: R | T6: R
B8: Employee Related | D8: =SUM(D9:D9:D12) -> 306915 | E8: =+D8/$D$77 -> 0.15248184 | H8: =SUM(H9:H9:H12) -> 326553 | I8: =+H8/$H$77 -> 0.14760592 | L8: =SUM(L9:L9:L12) -> 350907 | M8: =+L8/$L$77 -> 0.13457959 | P8: =SUM(P9:P9:P12) -> 375545 | Q8: =+P8/$P$77 -> 0.15882955 | T8: =SUM(T9:T9:T12) -> 401697 | U8: =+T8/$T$77 -> 0.15943951
B9: Salaries | D9: 281506 | H9: 301212 | L9: 322297 | P9: 344857 | T9: 368997
B10: UIF | D10: 1950 | H10: 1950 | L10: 1752 | P10: 1950 | T10: 1950
B11: Transport allowance | D11: 0 | H11: 0 | L11: 0 | P11: 0 | T11: 0
B12: Bonus Provision | D12: 23459 | H12: 23391 | L12: 26858 | P12: 28738 | T12: 30750
B14: Core Business | D14: =SUM(D15:D20) -> 1314368 | E14: =+D14/$D$77 -> 0.65300574 | H14: =SUM(H15:H20) -> 1404951 | I14: =+H14/$H$77 -> 0.6350549 | L14: =SUM(L15:L20) -> 1591976 | M14: =+L14/$L$77 -> 0.61055345 | P14: =SUM(P15:P20) -> 1623358 | Q14: =+P14/$P$77 -> 0.6865681 | T14: =SUM(T15:T20) -> 1735313 | U14: =+T14/$T$77 -> 0.68877152
B15: Cleansing Services | D15: 285000 | H15: 304800 | L15: 323568 | P15: 348270 | T15: 372649
B16: Environmental Upgrading | D16: 24000 | H16: 17000 | L16: 24000 | P16: 24000 | T16: 24000
B17: Law Enforcement Officers | D17: 0 | H17: 0 | L17: 0 | P17: 0 | T17: 0
B18: Security Services - CCTV monitoring | D18: 22260 | H18: 107151 | L18: 25485 | P18: 27270 | T18: 29179
B19: Security Services | D19: 979596 | H19: 973000 | L19: 1215323 | P19: 1223818 | T19: 1309485
B20: Social Upliftment | D20: 3512 | H20: 3000 | L20: 3600 | P20: 0 | T20: 0
B22: Depreciation | D22: =10000*12 -> 120000 | E22: =+D22/$D$77 -> 0.059618531 | H22: 117000 | I22: =+H22/$H$77 -> 0.052885419 | L22: 128520 | M22: =+L22/$L$77 -> 0.049289895 | P22: 120000 | Q22: =+P22/$P$77 -> 0.050751696 | T22: 120000 | U22: =+T22/$T$77 -> 0.047629783
B23: Repairs and Maintenance | D23: 14209 | E23: =+D23/$D$77 -> 0.0070593309 | H23: 36000 | I23: =+H23/$H$77 -> 0.016272437 | L23: 30040 | M23: =+L23/$L$77 -> 0.011520918 | P23: 17405 | Q23: =+P23/$P$77 -> 0.0073611106 | T23: 18623 | U23: =+T23/$T$77 -> 0.0073917454
B24: Services Accounts ex CCT | D24: 0 | E24: =+D24/$D$77 -> 0 | H24: 0 | I24: =+H24/$H$77 -> 0 | L24: 0 | M24: =+L24/$L$77 -> 0 | P24: 0 | Q24: =+P24/$P$77 -> 0 | T24: 0 | U24: =+T24/$T$77 -> 0
B25: Interest Paid | D25: 0 | E25: =+D25/$D$77 -> 0 | H25: 0 | I25: =+H25/$H$77 -> 0 | L25: 0 | M25: =+L25/$L$77 -> 0 | P25: 0 | Q25: =+P25/$P$77 -> 0 | T25: 0 | U25: =+T25/$T$77 -> 0
B27: General Expenditure | D27: =SUM(D28:D55) -> 147026 | E27: =+D27/$D$77 -> 0.073045618 | H27: =SUM(H28:H55) -> 147211 | I27: =+H27/$H$77 -> 0.066541158 | L27: =SUM(L28:L55) -> 148781 | M27: =+L27/$L$77 -> 0.057060379 | P27: =SUM(P28:P55) -> 157211 | Q27: =+P27/$P$77 -> 0.066489374 | T27: =SUM(T28:T55) -> 168216 | U27: =+T27/$T$77 -> 0.06676743
B28: Accommodation (Rent) | D28: 0 | H28: 0 | L28: =+H28*1.07 -> 0 | P28: 0 | T28: 0
B29: Accounting fees | D29: 950 | H29: 30000 | L29: 29136 | P29: 0 | T29: 0
B30: Admin and management fees | D30: 23160 | H30: 0 | L30: 0 | P30: 27955 | T30: 29912
B31: Auditor's remuneration | D31: 11527 | H31: 12420 | L31: 13197 | P31: 14122 | T31: 15111
B32: Avertising | D32: 6000 | H32: 10000 | L32: 0 | P32: 0 | T32: 0
B33: Bank charges | D33: 6900 | H33: 7600 | L33: 6869 | P33: 7350 | T33: 7865
B34: Computer expenses (incl Website) | D34: 27000 | H34: 10500 | L34: 8320 | P34: 7402 | T34: 7920
B35: Contingency / Sundry | D35: 9000 | H35: 5339 | L35: 6869 | P35: 7350 | T35: 7865
B36: Donations | D36: 0 | H36: 0 | L36: 0 | P36: 0 | T36: 0
B37: Entertainment | D37: 0 | H37: 0 | L37: 0 | P37: 0 | T37: 0
B38: Insurance | D38: 14744 | H38: 18000 | L38: 17174 | P38: 18376 | T38: 19662
B39: Lease rental on equipment | D39: 0 | H39: 0 | L39: 0 | P39: 0 | T39: 0
B40: Marketing and promotions | D40: 0 | H40: 0 | L40: 0 | P40: 0 | T40: 0
... B47: Printing and stationery | D47: 5000 | H47: 3852 | L47: 5000 | P47: 4410 | T47: 4718
B48: Protective clothing | D48: 0 | H48: 0 | L48: =+H48*1.07 -> 0 | P48: 0 | T48: 0
B49: Secretarial duties | D49: 0 | H49: 0 | L49: =+H49*1.07 -> 0 | P49: 0 | T49: 0
B50: Staff welfare (tea, Coffee, etc.) | D50: 1400 | H50: 1000 | L50: 1603 | P50: 1715 | T50: 1835
B51: Subscriptions | D51: 0 | H51: 1500 | L51: 0 | P51: 3675 | T51: 3932
B52: Telephone/Internet | D52: 22000 | H52: 29000 | L52: 36570 | P52: 39130 | T52: 41869
...

Sheet Form 3
B1: ='Form 2'!A1:A1 -> TRIANGLE INDUSTRIAL CITY IMPROVEMENT DISTRICT
B2: 2019/20
B3: PROPOSED BUDGET
C5: As per Business Plan | G5: Proposed Budget | K5: Variance
B6: INCOME | D6: R | H6: R | L6: R
B8: Revenue - Add. Rates | D8: ='Form 2'!P82 -> -2364453 | E8: =D8/D12 -> 1 | H8: -2364453 | I8: =H8/H12 -> 0.95802359 | L8: =H8-D8 -> 0 | M8: =L8/D12 -> 0
B9: Other: Recycling | D9: 0 | E9: =D9/D12 -> 0 | H9: -3600 | I9: =H9/H12 -> 0.0014586397 | L9: =H9-D9 -> -3600 | M9: =L9/D12 -> 0.0015225509
B10: Other: Accumulated Surplus | D10: 0 | E10: =D10/D12 -> 0 | H10: -100000 | I10: =H10/H12 -> 0.040517768 | L10: =H10-D10 -> -100000 | M10: =L10/D12 -> 0.04229308
B12: TOTAL INCOME | D12: =SUM(D8:D11) -> -2364453 | E12: =SUM(E8:E11) -> 1 | H12: =SUM(H8:H11) -> -2468053 | I12: =SUM(I8:I11) -> 1 | L12: =SUM(L8:L11) -> -103600 | M12: =SUM(M8:M11) -> 0.043815631
B15: EXPENDITURE | D15: R | H15: R | L15: R
B17: Employee Related | D17: =SUM(D18:D22) -> 375545 | E17: =D17/$D$90 -> 0.15882955 | H17: =SUM(H18:H18:H22) -> 354413 | I17: =H17/$H$90 -> 0.14360024 | L17: =SUM(L18:L18:L22) -> -21132 | M17: =L17/$D$90 -> -0.0089373737
B18: Salaries and Wages | D18: ='Form 2'!P9 -> 344857 | H18: =27025*12 -> 324300 | L18: =H18-D18 -> -20557
B19: PAYE, UIF & SDL | D19: ='Form 2'!P10 -> 1950 | H19: =149*12 -> 1788 | L19: =H19-D19 -> -162
B20: Allowances: Locomotion | D20: ='Form 2'!P11 -> 0 | L20: =H20-D20 -> 0
B21: COIDA | D21: 0 | H21: 1300 | L21: =H21-D21 -> 1300
B22: Bonus provision | D22: ='Form 2'!P12 -> 28738 | H22: 27025 | L22: =H22-D22 -> -1713
B24: Core Business | D24: =SUM(D25:D31) -> 1623358 | E24: =+D24/$D$90 -> 0.6865681 | H24: =SUM(H25:H31) -> 1599880 | I24: =+H24/$H$90 -> 0.64823568 | L24: =SUM(L25:L31) -> -23477.988 | M24: =+L24/$D$90 -> -0.0099295641
B25: Cleansing services | D25: ='Form 2'!P15 -> 348270 | H25: 348270 | L25: =H25-D25 -> 0
B26: Environmental upgrading | D26: ='Form 2'!P16 -> 24000 | H26: 20000 | L26: =H26-D26 -> -4000
B27: Law Enforcement Officers | D27: ='Form 2'!P17 -> 0 | L27: =H27-D27 -> 0
B28: Public Safety | D28: ='Form 2'!P19 -> 1223818 | H28: =((892400+117676)*1.07)*1.07+44000 -> 1200436 | L28: =H28-D28 -> -23381.988
B29: Public Safety - CCTV monitoring | D29: ='Form 2'!P18 -> 27270 | H29: 27250 | L29: =H29-D29 -> -20
B30: Social upliftment | D30: ='Form 2'!P20 -> 0 | H30: =3600*1.09 -> 3924 | L30: =H30-D30 -> 3924
B31: Urban Maintenance | D31: 0 | L31: =H31-D31 -> 0
B33: Depreciation | D33: ='Form 2'!P22 -> 120000 | E33: =+D33/$D$90 -> 0.050751696 | H33: =9050*12 -> 108600 | I33: =+H33/$H$90 -> 0.044002297 | L33: =H33-D33 -> -11400 | M33: =+L33/$D$90 -> -0.0048214111
B34: Repairs & Maintenance | D34: ='Form 2'!P23 -> 17405 | E34: =+D34/$D$90 -> 0.0073611106 | H34: 30000 | I34: =+H34/$H$90 -> 0.012155331 | L34: =H34-D34 -> 12595 | M34: =+L34/$D$90 -> 0.0053268134
B35: Interest & Redemption | D35: 0 | E35: =+D35/$D$90 -> 0 | I35: =+H35/$H$90 -> 0 | L35: =H35-D35 -> 0 | M35: =+L35/$D$90 -> 0
B37: General Expenditure | D37: =SUM(D38:D68) -> 157211 | E37: =+D37/$D$90 -> 0.066489374 | H37: =SUM(H38:H68) -> 204225.99 | I37: =+H37/$H$90 -> 0.082747814 | L37: =SUM(L38:L68) -> 47014.99 | M37: =+L37/$D$90 -> 0.019884087
B38: Accounting fees | D38: ='Form 2'!P29 -> 0 | H38: =2650*12 -> 31800 | L38: =H38-D38 -> 31800
B39: Admin and management fees | D39: ='Form 2'!P30 -> 27955 | L39: =H39-D39 -> -27955
B40: Advertising costs | D40: ='Form 2'!P32 -> 0 | H40: 9345 | L40: =H40-D40 -> 9345
B41: Auditor's remuneration | D41: ='Form 2'!P31 -> 14122 | H41: =13289*1.07 -> 14219.23 | L41: =H41-D41 -> 97.23
B42: Bank charges | D42: ='Form 2'!P33 -> 7350 | H42: =600*12 -> 7200 | L42: =H42-D42 -> -150
B43: Books, periodicals & subscriptions | D43: ='Form 2'!P51 -> 3675 | H43: 0 | L43: =H43-D43 -> -3675
B44: Communication | D44: ='Form 2'!P43 -> 0 | L44: =H44-D44 -> 0
B45: Computer expenses | D45: ='Form 2'!P34 -> 7402 | H45: 8000 | L45: =H45-D45 -> 598
B46: Conferences & seminars - International | D46: 0 | L46: =H46-D46 -> 0
B47: Conferences & seminars - National | D47: 0 | L47: =H47-D47 -> 0
B48: Contingency / Sundry | D48: ='Form 2'!P35 -> 7350 | H48: 11100 | L48: =H48-D48 -> 3750
B49: Donations | D49: ='Form 2'!P36 -> 0 | L49: =H49-D49 -> 0
...

Sheet Surplus Utilisation
A1: TRIANGLE INDUSTRIAL CITY IMPROVEMENT DISTRICT
A2: ='Form 3'!B2:B2 -> 2019/20
A4: PROPOSED UTILISATION OF ACCUMULATED SURPLUS
C6: Proposed Budget
B7: EXPENDITURE | D7: R
B9: Projects | D9: =SUM(D10:D19) -> 0 | E9: =+D9/D31 -> 0
B10: Project detail
B11: Project detail
B12: Project detail
B13: Project detail
B14: Project detail
B15: Project detail
B16: Project detail
B17: Project detail
B18: Project detail
B19: Project detail
B21: Capital Expenditure (PPE) | D21: =SUM(D22:D29) -> 100000 | E21: =D21/D31 -> 1
B22: Office Furniture
B23: Office Equipment
B24: Computer Equipment
B25: CCTV Cameras | D25: 100000
B26: Fence
B27: Security Equipment
B28: Vehicles
B29: Other: Specify
B31: TOTAL EXPENDITURE | D31: =D9+D21 -> 100000 | E31: =SUM(E9:E30) -> 1
B35: Surplus | D35: =SUM(D36:D45) -> 1847575 | H35: Depreciation | I35: Retention | J35: Metrorail
B37: 2016 - 2017
B38: 2015 - 2016 | D38: 210669 | H38: 104137 | I38: 83299
B39: 2014 - 2015 | D39: 172257 | H39: 78538 | I39: 71781
B40: 2013 - 2014 | D40: 240667 | H40: 57198 | I40: 159879
B41: 2012 - 2013 | D41: 175502 | I41: 72869
B42: 2011 - 2012 | D42: 485392 | H42: 3377 | I42: 45597 | J42: 281780
B43: 2010 - 2011 | D43: 236490 | H43: 3685 | I43: 39122
B44: 2009 - 2010 | D44: 179153 | H44: 3685
B45: 2008 - 2009 | D45: 147445
B49: MMA Call Accounts | D49: =SUM(D50:D54) -> -532744
B51: Asset Replacement Fund | D51: =-146792+11056 -> -135736
B53: Strategic Fund [2 x Monthly Revenue R370,000] | D53: -397008
B57: Capex
...

Sheet Depreciation calculation
A1: Depreciation of PPE
A3: Year in which asset becomes operational | B3: Description of Asset | C3: Asset Class (See Legend below) | D3: Cost | E3: Year 1 Dep | F3: Year 2 Dep | G3: Year 3 Dep | H3: Year 4 Dep | I3: Year 5 Dep | J3: Total | K3: Remains | L3: Per yr | M3: Useful Life | N3: per month
A4: Year 1 | E4: =+N4*12 -> #DIV/0! | F4: =+N4*12 -> #DIV/0! | G4: =+N4*12 -> #DIV/0! | H4: =+N4*12 -> #DIV/0! | I4: =+N4*12 -> #DIV/0! | J4: =SUM(E4:I4) -> #DIV/0! | K4: =D4-J4 -> #DIV/0! | L4: =+D4/M4 -> #DIV/0! | N4: =+L4/12 -> #DIV/0!
E5: =+N5*12 -> #DIV/0! | F5: =+N5*12 -> #DIV/0! | G5: =+N5*12 -> #DIV/0! | H5: =+N5*12 -> #DIV/0! | I5: =+N5*12 -> #DIV/0! | J5: =SUM(E5:I5) -> #DIV/0! | K5: =D5-J5 -> #DIV/0! | L5: =+D5/M5 -> #DIV/0! | N5: =+L5/12 -> #DIV/0!
E6: =+N6*12 -> #DIV/0! | F6: =+N6*12 -> #DIV/0! | G6: =+N6*12 -> #DIV/0! | H6: =+N6*12 -> #DIV/0! | I6: =+N6*12 -> #DIV/0! | J6: =SUM(E6:I6) -> #DIV/0! | K6: =D6-J6 -> #DIV/0! | L6: =+D6/M6 -> #DIV/0! | N6: =+L6/12 -> #DIV/0!
E7: =+N7*12 -> #DIV/0! | F7: =+N7*12 -> #DIV/0! | G7: =+N7*12 -> #DIV/0! | H7: =+N7*12 -> #DIV/0! | I7: =+N7*12 -> #DIV/0! | J7: =SUM(E7:I7) -> #DIV/0! | K7: =D7-J7 -> #DIV/0! | L7: =+D7/M7 -> #DIV/0! | N7: =+L7/12 -> #DIV/0!
E8: =+N8*12 -> #DIV/0! | F8: =+N8*12 -> #DIV/0! | G8: =+N8*12 -> #DIV/0! | H8: =+N8*12 -> #DIV/0! | I8: =+N8*12 -> #DIV/0! | J8: =SUM(E8:I8) -> #DIV/0! | K8: =D8-J8 -> #DIV/0! | L8: =+D8/M8 -> #DIV/0! | N8: =+L8/12 -> #DIV/0!
A9: Year 2 | F9: =+N9*12 -> #DIV/0! | G9: =+N9*12 -> #DIV/0! | H9: =+N9*12 -> #DIV/0! | I9: =+N9*12 -> #DIV/0! | J9: =SUM(E9:I9) -> #DIV/0! | K9: =D9-J9 -> #DIV/0! | L9: =+D9/M9 -> #DIV/0! | N9: =+L9/12 -> #DIV/0!
F10: =+N10*12 -> #DIV/0! | G10: =+N10*12 -> #DIV/0! | H10: =+N10*12 -> #DIV/0! | I10: =+N10*12 -> #DIV/0! | J10: =SUM(E10:I10) -> #DIV/0! | K10: =D10-J10 -> #DIV/0! | L10: =+D10/M10 -> #DIV/0! | N10: =+L10/12 -> #DIV/0!
F11: =+N11*12 -> #DIV/0! | G11: =+N11*12 -> #DIV/0! | H11: =+N11*12 -> #DIV/0! | I11: =+N11*12 -> #DIV/0! | J11: =SUM(E11:I11) -> #DIV/0! | K11: =D11-J11 -> #DIV/0! | L11: =+D11/M11 -> #DIV/0! | N11: =+L11/12 -> #DIV/0!
F12: =+N12*12 -> #DIV/0! | G12: =+N12*12 -> #DIV/0! | H12: =+N12*12 -> #DIV/0! | I12: =+N12*12 -> #DIV/0! | J12: =SUM(E12:I12) -> #DIV/0! | K12: =D12-J12 -> #DIV/0! | L12: =+D12/M12 -> #DIV/0! | N12: =+L12/12 -> #DIV/0!
F13: =+N13*12 -> #DIV/0! | G13: =+N13*12 -> #DIV/0! | H13: =+N13*12 -> #DIV/0! | I13: =+N13*12 -> #DIV/0! | J13: =SUM(E13:I13) -> #DIV/0! | K13: =D13-J13 -> #DIV/0! | L13: =+D13/M13 -> #DIV/0! | N13: =+L13/12 -> #DIV/0!
A14: Year 3 | G14: =+N14*12 -> #DIV/0! | H14: =+N14*12 -> #DIV/0! | I14: =+N14*12 -> #DIV/0! | J14: =SUM(E14:I14) -> #DIV/0! | K14: =D14-J14 -> #DIV/0! | L14: =+D14/M14 -> #DIV/0! | N14: =+L14/12 -> #DIV/0!
G15: =+N15*12 -> #DIV/0! | H15: =+N15*12 -> #DIV/0! | I15: =+N15*12 -> #DIV/0! | J15: =SUM(E15:I15) -> #DIV/0! | K15: =D15-J15 -> #DIV/0! | L15: =+D15/M15 -> #DIV/0! | N15: =+L15/12 -> #DIV/0!
G16: =+N16*12 -> #DIV/0! | H16: =+N16*12 -> #DIV/0! | I16: =+N16*12 -> #DIV/0! | J16: =SUM(E16:I16) -> #DIV/0! | K16: =D16-J16 -> #DIV/0! | L16: =+D16/M16 -> #DIV/0! | N16: =+L16/12 -> #DIV/0!
G17: =+N17*12 -> #DIV/0! | H17: =+N17*12 -> #DIV/0! | I17: =+N17*12 -> #DIV/0! | J17: =SUM(E17:I17) -> #DIV/0! | K17: =D17-J17 -> #DIV/0! | L17: =+D17/M17 -> #DIV/0! | N17: =+L17/12 -> #DIV/0!
G18: =+N18*12 -> #DIV/0! | H18: =+N18*12 -> #DIV/0! | I18: =+N18*12 -> #DIV/0! | J18: =SUM(E18:I18) -> #DIV/0! | K18: =D18-J18 -> #DIV/0! | L18: =+D18/M18 -> #DIV/0! | N18: =+L18/12 -> #DIV/0!
A19: Year 4 | H19: =+N19*12 -> #DIV/0! | I19: =+N19*12 -> #DIV/0! | J19: =SUM(E19:I19) -> #DIV/0! | K19: =D19-J19 -> #DIV/0! | L19: =+D19/M19 -> #DIV/0! | N19: =+L19/12 -> #DIV/0!
H20: =+N20*12 -> #DIV/0! | I20: =+N20*12 -> #DIV/0! | J20: =SUM(E20:I20) -> #DIV/0! | K20: =D20-J20 -> #DIV/0! | L20: =+D20/M20 -> #DIV/0! | N20: =+L20/12 -> #DIV/0!
H21: =+N21*12 -> #DIV/0! | I21: =+N21*12 -> #DIV/0! | J21: =SUM(E21:I21) -> #DIV/0! | K21: =D21-J21 -> #DIV/0! | L21: =+D21/M21 -> #DIV/0! | N21: =+L21/12 -> #DIV/0!
H22: =+N22*12 -> #DIV/0! | I22: =+N22*12 -> #DIV/0! | J22: =SUM(E22:I22) -> #DIV/0! | K22: =D22-J22 -> #DIV/0! | L22: =+D22/M22 -> #DIV/0! | N22: =+L22/12 -> #DIV/0!
H23: =+N23*12 -> #DIV/0! | I23: =+N23*12 -> #DIV/0! | J23: =SUM(E23:I23) -> #DIV/0! | K23: =D23-J23 -> #DIV/0! | L23: =+D23/M23 -> #DIV/0! | N23: =+L23/12 -> #DIV/0!
A24: Year 5 | I24: =+N24*12 -> #DIV/0! | J24: =SUM(E24:I24) -> #DIV/0! | K24: =D24-J24 -> #DIV/0! | L24: =+D24/M24 -> #DIV/0! | N24: =+L24/12 -> #DIV/0!
I25: =+N25*12 -> #DIV/0! | J25: =SUM(E25:I25) -> #DIV/0! | K25: =D25-J25 -> #DIV/0! | L25: =+D25/M25 -> #DIV/0! | N25: =+L25/12 -> #DIV/0!
I26: =+N26*12 -> #DIV/0! | J26: =SUM(E26:I26) -> #DIV/0! | K26: =D26-J26 -> #DIV/0! | L26: =+D26/M26 -> #DIV/0! | N26: =+L26/12 -> #DIV/0!
I27: =+N27*12 -> #DIV/0! | J27: =SUM(E27:I27) -> #DIV/0! | K27: =D27-J27 -> #DIV/0! | L27: =+D27/M27 -> #DIV/0! | N27: =+L27/12 -> #DIV/0!
I28: =+N28*12 -> #DIV/0! | J28: =SUM(E28:I28) -> #DIV/0! | K28: =D28-J28 -> #DIV/0! | L28: =+D28/M28 -> #DIV/0! | N28: =+L28/12 -> #DIV/0!
E30: =ROUND(SUM(E4:E29),0) -> #DIV/0! | F30: =ROUND(SUM(F4:F29),0) -> #DIV/0! | G30: =ROUND(SUM(G4:G29),0) -> #DIV/0! | H30: =ROUND(SUM(H4:H29),0) -> #DIV/0! | I30: =ROUND(SUM(I4:I29),0) -> #DIV/0!
A33: LIFESPAN OF ASSETS:
A34: Asset Class | C34: Useful Life (Years)
A35: Computer Hardware | C35: 3-5
A36: Computer Software | C36: 3
A37: Furniture | C37: 5-10
A38: Cameras - CCTV | C38: 5
A39: Cameras - LPR | C39: 5
A40: Equipment - Office | C40: 5
A41: Plant and Equipment | C41: 5
A42: Fence | C42: 10
A43: Motor Vehicle | C43: 5
A44: Communication Equipment | C44: 7
...
